BEGIN:VCALENDAR
VERSION:2.0
PRODID:-//Jim Austin Online - Business Networking, Entertainment &amp; Events - Fort Worth, TX - ECPv6.15.20//NONSGML v1.0//EN
CALSCALE:GREGORIAN
METHOD:PUBLISH
X-WR-CALNAME:Jim Austin Online - Business Networking, Entertainment &amp; Events - Fort Worth, TX
X-ORIGINAL-URL:https://jimaustinonline.com
X-WR-CALDESC:Events for Jim Austin Online - Business Networking, Entertainment &amp; Events - Fort Worth, TX
REFRESH-INTERVAL;VALUE=DURATION:PT1H
X-Robots-Tag:noindex
X-PUBLISHED-TTL:PT1H
BEGIN:VTIMEZONE
TZID:America/Chicago
BEGIN:DAYLIGHT
TZOFFSETFROM:-0600
TZOFFSETTO:-0500
TZNAME:CDT
DTSTART:20250309T080000
END:DAYLIGHT
BEGIN:STANDARD
TZOFFSETFROM:-0500
TZOFFSETTO:-0600
TZNAME:CST
DTSTART:20251102T070000
END:STANDARD
BEGIN:DAYLIGHT
TZOFFSETFROM:-0600
TZOFFSETTO:-0500
TZNAME:CDT
DTSTART:20260308T080000
END:DAYLIGHT
BEGIN:STANDARD
TZOFFSETFROM:-0500
TZOFFSETTO:-0600
TZNAME:CST
DTSTART:20261101T070000
END:STANDARD
BEGIN:DAYLIGHT
TZOFFSETFROM:-0600
TZOFFSETTO:-0500
TZNAME:CDT
DTSTART:20270314T080000
END:DAYLIGHT
BEGIN:STANDARD
TZOFFSETFROM:-0500
TZOFFSETTO:-0600
TZNAME:CST
DTSTART:20271107T070000
END:STANDARD
END:VTIMEZONE
BEGIN:VEVENT
DTSTART;TZID=America/Chicago:20260420T080000
DTEND;TZID=America/Chicago:20260807T170000
DTSTAMP:20260423T015734
CREATED:20260420T225600Z
LAST-MODIFIED:20260420T230015Z
UID:3319-1776672000-1786122000@jimaustinonline.com
SUMMARY:2026 Dallas Cowboys Season Ticket Package
DESCRIPTION:We’re selling our seats to the Dallas Cowboys for the 2026 Sesaon!  This ticket package includes 10 Games (Preseason & Regular Season Home Games)\, and the additional option of Wild Card games once available. \n\n\n\n\n\n\n\nOur Current Availability: \n\n\n\n4 tickets – Section 127\, Row 18\, Seats 17 – 20 \n\n\n\n2 tickets – Section 144\, Row 17\, Seats 20 – 21 \n\n\n\n4 tickets – Section 144\, Row 18\, Seats 18 – 21 \n\n\n\n\n\n\n\nFirst Come First Serve – Limited Availability \n\n\n\nCall Jim Austin at 817.829.5848 or Email Lucinda Harvey at receptionist@jimaustinonline.com \n\n\n\nPlease make sure to reference this event!
URL:https://jimaustinonline.com/events/2026-dallas-cowboys-season-ticket-package/
LOCATION:AT&T Stadium\, 1 AT&T Way\, Arlington\, TX\, 76011\, United States
CATEGORIES:Sporting Event
ATTACH;FMTTYPE=image/png:https://jimaustinonline.com/wp-content/uploads/2026/04/2026-Dallas-Cowboys-Tickets-Flyer-1080-x-1080-px.png
ORGANIZER;CN="Jim Austin Online":MAILTO:info@jimaustinonline.com
END:VEVENT
BEGIN:VEVENT
DTSTART;TZID=America/Chicago:20260521T190000
DTEND;TZID=America/Chicago:20260521T220000
DTSTAMP:20260423T015734
CREATED:20260407T212645Z
LAST-MODIFIED:20260421T213418Z
UID:3090-1779390000-1779400800@jimaustinonline.com
SUMMARY:Stillwater Lounge: Juke Joint Nights - Featuring Chef Dee
DESCRIPTION:Stillwater Lounge: Juke Joint Nights – featuring Chef Dee\n\n\nJoin Artistry Soul Collective and Jim Austin Online at the Stillwater Lounge every other Thursday night for dancing and cocktails. \n\n\n\n\nJim Austin Online and Stillwater Lounge & Event Center is partnering with Artistry Soul Collective to bring you Juke Joint Night featuring a live performance from Chef Dee & his live band every other Thursday from 7:00-10:00pm starting March 26th. Come dance the night away to the classics while enjoying signature cocktails from Moo Moos & Mimosas and a local food truck will be on site\, serving grub fit to keep the party going! \n \nAdmission:\n$10 Advance | $18 Onsite \n  *All Orders are subject to Taxes & Fees \n\nArtistry Soul Collective is a Fort Worth-based organization that seeks to highlight local artists in the R&B and Gospel genres; surrounding artists with community and resources to amplify their voices! \nChef Dee is a local contemporary R&B artist whose catalog ranges from several albums and EPs. His performances reach every generation and culture with a 2-time opportunity to grace the stage of Sundance Square\, as well as The JoJo Jam Show\, Rodeo Bar\, The Free Man Cafe\, Revelers Hall and more! \nYou can learn more about him and his work by visiting the link below: \nlinktr.ee/yochefdee \n\n\n\n\n\n\n\n\n\n\n\n\n\nJimAustinOnline.com Image and Likeness Disclaimer: \n\n\n\nPlease note that photography and videography taking place at all JimAustinOnline.com events\, (including receptions\, concerts\, mixers etc. “)\, the Footage may be used by JimAustinOnline.com for websites\, social media\, press coverage\, marketing materials\, and other official platforms. By attending these events\, you granted consent for JimAustinOnline.com to capture and use your image and likeness.
URL:https://jimaustinonline.com/events/stillwater-lounge-juke-joint-nights-featuring-chef-dee-4/
LOCATION:Stillwater Lounge & Event Center\, 2219 Evans Avenue\, Fort Worth\, TX\, 76104\, United States
CATEGORIES:Music Events,Stillwater Lounge & Event Center
ATTACH;FMTTYPE=image/png:https://jimaustinonline.com/wp-content/uploads/2026/03/Juke-Joint-Nights-2160-x-1080-px.png
ORGANIZER;CN="Jim Austin Online":MAILTO:info@jimaustinonline.com
END:VEVENT
BEGIN:VEVENT
DTSTART;TZID=America/Chicago:20260604T190000
DTEND;TZID=America/Chicago:20260604T220000
DTSTAMP:20260423T015734
CREATED:20260407T212816Z
LAST-MODIFIED:20260421T213454Z
UID:3092-1780599600-1780610400@jimaustinonline.com
SUMMARY:Stillwater Lounge: Juke Joint Nights - Featuring Chef Dee
DESCRIPTION:Stillwater Lounge: Juke Joint Nights – featuring Chef Dee\n\n\nJoin Artistry Soul Collective and Jim Austin Online at the Stillwater Lounge every other Thursday night for dancing and cocktails. \n\n\n\n\nJim Austin Online and Stillwater Lounge & Event Center is partnering with Artistry Soul Collective to bring you Juke Joint Night featuring a live performance from Chef Dee & his live band every other Thursday from 7:00-10:00pm starting March 26th. Come dance the night away to the classics while enjoying signature cocktails from Moo Moos & Mimosas and a local food truck will be on site\, serving grub fit to keep the party going! \n \nAdmission:\n$10 Advance | $18 Onsite \n  *All Orders are subject to Taxes & Fees \n  \n\nArtistry Soul Collective is a Fort Worth-based organization that seeks to highlight local artists in the R&B and Gospel genres; surrounding artists with community and resources to amplify their voices! \nChef Dee is a local contemporary R&B artist whose catalog ranges from several albums and EPs. His performances reach every generation and culture with a 2-time opportunity to grace the stage of Sundance Square\, as well as The JoJo Jam Show\, Rodeo Bar\, The Free Man Cafe\, Revelers Hall and more! \nYou can learn more about him and his work by visiting the link below: \nlinktr.ee/yochefdee \n\n\n\n\n\n\n\n\n\n\n\n\n\nJimAustinOnline.com Image and Likeness Disclaimer: \n\n\n\nPlease note that photography and videography taking place at all JimAustinOnline.com events\, (including receptions\, concerts\, mixers etc. “)\, the Footage may be used by JimAustinOnline.com for websites\, social media\, press coverage\, marketing materials\, and other official platforms. By attending these events\, you granted consent for JimAustinOnline.com to capture and use your image and likeness.
URL:https://jimaustinonline.com/events/stillwater-lounge-juke-joint-nights-featuring-chef-dee-5/
LOCATION:Stillwater Lounge & Event Center\, 2219 Evans Avenue\, Fort Worth\, TX\, 76104\, United States
CATEGORIES:Music Events,Stillwater Lounge & Event Center
ATTACH;FMTTYPE=image/png:https://jimaustinonline.com/wp-content/uploads/2026/03/Juke-Joint-Nights-2160-x-1080-px.png
ORGANIZER;CN="Jim Austin Online":MAILTO:info@jimaustinonline.com
END:VEVENT
BEGIN:VEVENT
DTSTART;TZID=America/Chicago:20260611T190000
DTEND;TZID=America/Chicago:20260611T230000
DTSTAMP:20260423T015734
CREATED:20260409T203117Z
LAST-MODIFIED:20260409T203118Z
UID:3245-1781204400-1781218800@jimaustinonline.com
SUMMARY:Luke Bryan: Word On The Street Tour
DESCRIPTION:We’re selling our seats to the Luke Byran concert scheduled for Thursday\, June 11th! \n\n\n\n\n\n\n\nWe currently have 8 tickets – Sec 107\, Row 13\, Seat 3 – 10 \n\n\n\n\n\n\n\nFirst Come First Serve – Limited Availability \n\n\n\nCall Jim Austin at 817.829.5848 or Email Lucinda Harvey at receptionist@jimaustinonline.com \n\n\n\nPlease make sure to reference this event!
URL:https://jimaustinonline.com/events/luke-bryan-word-on-the-street-tour/
LOCATION:Dickies Arena\, 1911 Montgomery Street\, Fort Worth\, TX\, 76107\, United States
CATEGORIES:Music Events
ATTACH;FMTTYPE=image/png:https://jimaustinonline.com/wp-content/uploads/2026/04/Luke-Bryan-6.11.26.png
END:VEVENT
BEGIN:VEVENT
DTSTART;TZID=America/Chicago:20260612T200000
DTEND;TZID=America/Chicago:20260612T235900
DTSTAMP:20260423T015734
CREATED:20260409T204107Z
LAST-MODIFIED:20260409T204131Z
UID:3251-1781294400-1781308740@jimaustinonline.com
SUMMARY:The R&B Lovers Tour
DESCRIPTION:We’re selling our seats to The R&B Lovers Tour scheduled for Friday\, June 12th! \n\n\n\n\n\n\n\nWe currently have 4 tickets – Sec 106\, Row 7\, Seat 1 – 4 \n\n\n\n\n\n\n\nFirst Come First Serve – Limited Availability \n\n\n\nCall Jim Austin at 817.829.5848 or Email Lucinda Harvey at receptionist@jimaustinonline.com \n\n\n\nPlease make sure to reference this event!
URL:https://jimaustinonline.com/events/the-rb-lovers-tour/
LOCATION:Dickies Arena\, 1911 Montgomery Street\, Fort Worth\, TX\, 76107\, United States
CATEGORIES:Music Events
ATTACH;FMTTYPE=image/png:https://jimaustinonline.com/wp-content/uploads/2026/04/The-RB-Lovers-Tour-6.12.2026.png
END:VEVENT
BEGIN:VEVENT
DTSTART;TZID=America/Chicago:20260618T190000
DTEND;TZID=America/Chicago:20260618T220000
DTSTAMP:20260423T015734
CREATED:20260407T212937Z
LAST-MODIFIED:20260421T213523Z
UID:3094-1781809200-1781820000@jimaustinonline.com
SUMMARY:Stillwater Lounge: Juke Joint Nights - Featuring Chef Dee
DESCRIPTION:Stillwater Lounge: Juke Joint Nights – featuring Chef Dee\n\n\nJoin Artistry Soul Collective and Jim Austin Online at the Stillwater Lounge every other Thursday night for dancing and cocktails. \n\n\n\n\nJim Austin Online and Stillwater Lounge & Event Center is partnering with Artistry Soul Collective to bring you Juke Joint Night featuring a live performance from Chef Dee & his live band every other Thursday from 7:00-10:00pm starting March 26th. Come dance the night away to the classics while enjoying signature cocktails from Moo Moos & Mimosas and a local food truck will be on site\, serving grub fit to keep the party going! \n \nAdmission:\n$10 Advance | $18 Onsite \n  *All Orders are subject to Taxes & Fees \n  \n\nArtistry Soul Collective is a Fort Worth-based organization that seeks to highlight local artists in the R&B and Gospel genres; surrounding artists with community and resources to amplify their voices! \nChef Dee is a local contemporary R&B artist whose catalog ranges from several albums and EPs. His performances reach every generation and culture with a 2-time opportunity to grace the stage of Sundance Square\, as well as The JoJo Jam Show\, Rodeo Bar\, The Free Man Cafe\, Revelers Hall and more! \nYou can learn more about him and his work by visiting the link below: \nlinktr.ee/yochefdee \n\n\n\n\n\n\n\n\n\n\n\n\n\nJimAustinOnline.com Image and Likeness Disclaimer: \n\n\n\nPlease note that photography and videography taking place at all JimAustinOnline.com events\, (including receptions\, concerts\, mixers etc. “)\, the Footage may be used by JimAustinOnline.com for websites\, social media\, press coverage\, marketing materials\, and other official platforms. By attending these events\, you granted consent for JimAustinOnline.com to capture and use your image and likeness.
URL:https://jimaustinonline.com/events/stillwater-lounge-juke-joint-nights-featuring-chef-dee-6/
LOCATION:Stillwater Lounge & Event Center\, 2219 Evans Avenue\, Fort Worth\, TX\, 76104\, United States
CATEGORIES:Music Events,Stillwater Lounge & Event Center
ATTACH;FMTTYPE=image/png:https://jimaustinonline.com/wp-content/uploads/2026/03/Juke-Joint-Nights-2160-x-1080-px.png
ORGANIZER;CN="Jim Austin Online":MAILTO:info@jimaustinonline.com
END:VEVENT
BEGIN:VEVENT
DTSTART;TZID=America/Chicago:20260619T200000
DTEND;TZID=America/Chicago:20260620T000000
DTSTAMP:20260423T015734
CREATED:20260324T175614Z
LAST-MODIFIED:20260421T213625Z
UID:3043-1781899200-1781913600@jimaustinonline.com
SUMMARY:Smooth Echoes in Amber - Featuring Carmichael Musiclover
DESCRIPTION:Smooth Echoes in Amber – featuring Carmichael Musiclover\n\n\nJoin us in celebrating Juneteenth at the Stillwater Lounge with a special live performance by Carmichael Musiclover! \n\n\n\n\nSmooth Echoes in Amber – featuring Carmichael Musiclover\nFriday\, June 19th\, 2026\nStillwater Lounge & Event Center\, 2219 Evans Avenue\, Fort Worth\, TX 76104\nDoors Open at 7:00 PM | Live Music Starts at 8:00 PM\n  \nNOTE: Table Reservation\, Tickets by Phone\, Sponsor or Vendor Inquiries call the Jim Austin Online Business Office at (817) 923-9305. \n  \nAdmission: \n$35 Advance via Eventbrite or call (817) 923-9305 \n$45 Day of Event Door Tickets – Cash + $8.19 Credit Card \n$55 VIP (includes 1 Complimentary Drink & Setup) \n      *All Tickets are subject to Taxes & Eventbrite Fees at Checkout \n  \nContemporary R&B Concert benefitting the National Multicultural Western Heritage Museum. \nFree Parking \nBar Service \nFood Available for Sale \n  \n\n\nCarmichael Musiclover\nCarmichael Musiclover\, whose real name is Antoine Carmichael\, is a South Carolina-born artist who moved to Atlanta\, Georgia\, to pursue his passion for music. He entered the music scene in 2008 with his first CD\, “All About Love.” Over the years\, he has become a cult artist among soul enthusiasts\, known for his soulful voice and sincere lyrics. His recent albums\, such as “Black Elvis Volume 1” and “Slow Motion\,” have been well-received\, showcasing his ability to blend classic R&B with contemporary beats and production. \nCarmichael Musiclover’s music often reflects his life experiences\, with themes of love\, heartbreak\, and self-discovery. His distinctive sound and relatable lyrics have garnered him a dedicated following and critical acclaim. His most popular songs include “Family\,” “Count the Stars\,” and “Baby All I Want Is You\,” among others. \nCarmichael Musiclover’s concerts and live tour dates are eagerly awaited by fans\, and he continues to produce hit after hit\, keeping the R&B and Contemporary R&B music scene vibrant and exciting. \nFollow Carmichael Musiclover on Facebook \n\n\n\n \n\n\n\n\n\n\n\n\n\n\n\n\n\n\n\nJimAustinOnline.com Image and Likeness Disclaimer: \n\n\n\nPlease note that photography and videography taking place at all JimAustinOnline.com events\, (including receptions\, concerts\, mixers etc. “)\, the Footage may be used by JimAustinOnline.com for websites\, social media\, press coverage\, marketing materials\, and other official platforms. By attending these events\, you granted consent for JimAustinOnline.com to capture and use your image and likeness.
URL:https://jimaustinonline.com/events/smooth-echoes-in-amber-featuring-carmichael-musiclover/
LOCATION:Stillwater Lounge & Event Center\, 2219 Evans Avenue\, Fort Worth\, TX\, 76104\, United States
CATEGORIES:Music Events,Stillwater Lounge & Event Center
ATTACH;FMTTYPE=image/webp:https://jimaustinonline.com/wp-content/uploads/2026/03/amber-car.webp
ORGANIZER;CN="Jim Austin Online":MAILTO:info@jimaustinonline.com
END:VEVENT
BEGIN:VEVENT
DTSTART;TZID=America/Chicago:20260628T193000
DTEND;TZID=America/Chicago:20260628T233000
DTSTAMP:20260423T015734
CREATED:20260409T205351Z
LAST-MODIFIED:20260409T210028Z
UID:3256-1782675000-1782689400@jimaustinonline.com
SUMMARY:RUSH: Fifty Something Tour
DESCRIPTION:We’re selling our seats to the Rush: Fifty Something Tour scheduled for Sunday\, June 28th! \n\n\n\n\n\n\n\nWe currently have 4 tickets – Sec 107\, Row 14\, Seat 1 – 4 \n\n\n\n\n\n\n\nFirst Come First Serve – Limited Availability \n\n\n\nCall Jim Austin at 817.829.5848 or Email Lucinda Harvey at receptionist@jimaustinonline.com \n\n\n\nPlease make sure to reference this event!
URL:https://jimaustinonline.com/events/rush-fifty-something-tour/
LOCATION:Dickies Arena\, 1911 Montgomery Street\, Fort Worth\, TX\, 76107\, United States
CATEGORIES:Music Events
ATTACH;FMTTYPE=image/png:https://jimaustinonline.com/wp-content/uploads/2026/04/RUSH-Fifty-Something-6.28.26.png
END:VEVENT
BEGIN:VEVENT
DTSTART;TZID=America/Chicago:20260630T193000
DTEND;TZID=America/Chicago:20260630T233000
DTSTAMP:20260423T015734
CREATED:20260409T210448Z
LAST-MODIFIED:20260409T210450Z
UID:3259-1782847800-1782862200@jimaustinonline.com
SUMMARY:RUSH: Fifty Something Tour
DESCRIPTION:We’re selling our seats to the Rush: Fifty Something Tour scheduled for Tuesday\, June 30th! \n\n\n\n\n\n\n\nWe currently have 4 tickets – Sec 123\, Row 11\, Seat 12 – 15 \n\n\n\n\n\n\n\nFirst Come First Serve – Limited Availability \n\n\n\nCall Jim Austin at 817.829.5848 or Email Lucinda Harvey at receptionist@jimaustinonline.com \n\n\n\nPlease make sure to reference this event!
URL:https://jimaustinonline.com/events/rush-fifty-something-tour-2/
LOCATION:Dickies Arena\, 1911 Montgomery Street\, Fort Worth\, TX\, 76107\, United States
CATEGORIES:Music Events
ATTACH;FMTTYPE=image/png:https://jimaustinonline.com/wp-content/uploads/2026/04/RUSH-Fifty-Something-6.30.26.png
END:VEVENT
BEGIN:VEVENT
DTSTART;TZID=America/Chicago:20260702T190000
DTEND;TZID=America/Chicago:20260702T220000
DTSTAMP:20260423T015734
CREATED:20260407T213121Z
LAST-MODIFIED:20260421T213728Z
UID:3096-1783018800-1783029600@jimaustinonline.com
SUMMARY:Stillwater Lounge: Juke Joint Nights - Featuring Chef Dee
DESCRIPTION:Stillwater Lounge: Juke Joint Nights – featuring Chef Dee\n\n\nJoin Artistry Soul Collective and Jim Austin Online at the Stillwater Lounge every other Thursday night for dancing and cocktails. \n\n\n\n\nJim Austin Online and Stillwater Lounge & Event Center is partnering with Artistry Soul Collective to bring you Juke Joint Night featuring a live performance from Chef Dee & his live band every other Thursday from 7:00-10:00pm starting March 26th. Come dance the night away to the classics while enjoying signature cocktails from Moo Moos & Mimosas and a local food truck will be on site\, serving grub fit to keep the party going! \n \nAdmission:\n$10 Advance | $18 Onsite \n  *All Orders are subject to Taxes & Fees \n  \n\nArtistry Soul Collective is a Fort Worth-based organization that seeks to highlight local artists in the R&B and Gospel genres; surrounding artists with community and resources to amplify their voices! \nChef Dee is a local contemporary R&B artist whose catalog ranges from several albums and EPs. His performances reach every generation and culture with a 2-time opportunity to grace the stage of Sundance Square\, as well as The JoJo Jam Show\, Rodeo Bar\, The Free Man Cafe\, Revelers Hall and more! \nYou can learn more about him and his work by visiting the link below: \nlinktr.ee/yochefdee \n\n\n\n\n\n\n\n\n\n\n\n\n\nJimAustinOnline.com Image and Likeness Disclaimer: \n\n\n\nPlease note that photography and videography taking place at all JimAustinOnline.com events\, (including receptions\, concerts\, mixers etc. “)\, the Footage may be used by JimAustinOnline.com for websites\, social media\, press coverage\, marketing materials\, and other official platforms. By attending these events\, you granted consent for JimAustinOnline.com to capture and use your image and likeness.
URL:https://jimaustinonline.com/events/stillwater-lounge-juke-joint-nights-featuring-chef-dee-7/
LOCATION:Stillwater Lounge & Event Center\, 2219 Evans Avenue\, Fort Worth\, TX\, 76104\, United States
CATEGORIES:Music Events,Stillwater Lounge & Event Center
ATTACH;FMTTYPE=image/png:https://jimaustinonline.com/wp-content/uploads/2026/03/Juke-Joint-Nights-2160-x-1080-px.png
ORGANIZER;CN="Jim Austin Online":MAILTO:info@jimaustinonline.com
END:VEVENT
BEGIN:VEVENT
DTSTART;TZID=America/Chicago:20260725T200000
DTEND;TZID=America/Chicago:20260725T235900
DTSTAMP:20260423T015734
CREATED:20260409T211907Z
LAST-MODIFIED:20260410T143937Z
UID:3263-1785009600-1785023940@jimaustinonline.com
SUMMARY:Jimmy Buffett's Coral Reefer Band - Keep The Party Going Tour
DESCRIPTION:We’re selling our seats to Jimmy Buffett’s Coral Reefer Band concert scheduled for Saturday\, July 25th! \n\n\n\n\n\n\n\nWe currently have 4 tickets – Sec 107\, Row 7\, Seat 1 – 4 \n\n\n\n\n\n\n\nFirst Come First Serve – Limited Availability \n\n\n\nCall Jim Austin at 817.829.5848 or Email Lucinda Harvey at receptionist@jimaustinonline.com \n\n\n\nPlease make sure to reference this event!
URL:https://jimaustinonline.com/events/jimmy-buffetts-coral-reefer-band-keep-the-party-going-tour/
LOCATION:Dickies Arena\, 1911 Montgomery Street\, Fort Worth\, TX\, 76107\, United States
ATTACH;FMTTYPE=image/png:https://jimaustinonline.com/wp-content/uploads/2026/04/Jimmy-Buffetts-Coral-Reefer-Band-7.25.26-e1775831963342.png
END:VEVENT
BEGIN:VEVENT
DTSTART;TZID=America/Chicago:20260827T200000
DTEND;TZID=America/Chicago:20260827T235900
DTSTAMP:20260423T015734
CREATED:20260409T213421Z
LAST-MODIFIED:20260410T143750Z
UID:3267-1787860800-1787875140@jimaustinonline.com
SUMMARY:LIL WAYNE 20 YEARS OF CARTER CLASSICS WITH 2 CHAINZ
DESCRIPTION:We’re selling our seats to the Lil Wayne concert scheduled for Thursday\, August 27th\, with 2 Chainz as a special guest! \n\n\n\n\n\n\n\nWe currently have 8 tickets – Sec 107\, Row 11\, Seat 1 – 8 \n\n\n\n\n\n\n\nFirst Come First Serve – Limited Availability \n\n\n\nCall Jim Austin at 817.829.5848 or Email Lucinda Harvey at receptionist@jimaustinonline.com \n\n\n\nPlease make sure to reference this event!
URL:https://jimaustinonline.com/events/lil-wayne-20-years-of-carter-classics-with-2-chainz/
LOCATION:Dickies Arena\, 1911 Montgomery Street\, Fort Worth\, TX\, 76107\, United States
CATEGORIES:Music Events
ATTACH;FMTTYPE=image/png:https://jimaustinonline.com/wp-content/uploads/2026/04/LIL-WAYNE-WITH-2-CHAIN-8.27.26-e1775831855473.png
END:VEVENT
BEGIN:VEVENT
DTSTART;TZID=America/Chicago:20260905T190000
DTEND;TZID=America/Chicago:20260905T230000
DTSTAMP:20260423T015734
CREATED:20260409T214333Z
LAST-MODIFIED:20260409T214847Z
UID:3271-1788634800-1788649200@jimaustinonline.com
SUMMARY:Brandi Carlile - The Human Tour
DESCRIPTION:We’re selling our seats to the Brandi Carlile concert scheduled for Saturday\, September 5th! \n\n\n\n\n\n\n\nWe currently have 4 tickets – Section 107\, Row 7\, Seat 1 – 4 \n\n\n\n\n\n\n\nFirst Come First Serve – Limited Availability \n\n\n\nCall Jim Austin at 817.829.5848 or Email Lucinda Harvey at receptionist@jimaustinonline.com \n\n\n\nPlease make sure to reference this event!
URL:https://jimaustinonline.com/events/brandi-carlile-the-human-tour/
LOCATION:Dickies Arena\, 1911 Montgomery Street\, Fort Worth\, TX\, 76107\, United States
CATEGORIES:Music Events
ATTACH;FMTTYPE=image/png:https://jimaustinonline.com/wp-content/uploads/2026/04/Brandi-Carlile-9.5.26.png
END:VEVENT
BEGIN:VEVENT
DTSTART;TZID=America/Chicago:20261009T190000
DTEND;TZID=America/Chicago:20261009T230000
DTSTAMP:20260423T015734
CREATED:20260409T215822Z
LAST-MODIFIED:20260409T220530Z
UID:3276-1791572400-1791586800@jimaustinonline.com
SUMMARY:Brooks & Dunn: Neon Moon Tour 2026
DESCRIPTION:We’re selling our seats to the Brooks & Dunn concert scheduled for Friday\, October 9th! \n\n\n\n\n\n\n\nWe currently have 4 tickets – Section FLR4\, Row 3\, Seats 11 – 14 \n\n\n\n& \n\n\n\n4 tickets – Section 122\, Row 7\, Seats 12 – 15 \n\n\n\n\n\n\n\nFirst Come First Serve – Limited Availability \n\n\n\nCall Jim Austin at 817.829.5848 or Email Lucinda Harvey at receptionist@jimaustinonline.com \n\n\n\nPlease make sure to reference this event!
URL:https://jimaustinonline.com/events/brooks-dunn-neon-moon-tour-2026/
LOCATION:Dickies Arena\, 1911 Montgomery Street\, Fort Worth\, TX\, 76107\, United States
CATEGORIES:Music Events
ATTACH;FMTTYPE=image/png:https://jimaustinonline.com/wp-content/uploads/2026/04/Brooks-Dunn-10.9.26-e1775772310255.png
END:VEVENT
BEGIN:VEVENT
DTSTART;TZID=America/Chicago:20261011T190000
DTEND;TZID=America/Chicago:20261011T230000
DTSTAMP:20260423T015734
CREATED:20260410T144521Z
LAST-MODIFIED:20260410T144522Z
UID:3291-1791745200-1791759600@jimaustinonline.com
SUMMARY:CeCe Winans: COME WORSHIP! Tour
DESCRIPTION:We’re selling our seats to the CeCe Winans concert scheduled for Sunday\, October 11th! \n\n\n\n\n\n\n\nWe currently have 4 tickets – Section FLR2\, Row 8\, Seats 7 – 10 \n\n\n\n& \n\n\n\n4 tickets – Section 107\, Row 4\, Seats 1 – 4 \n\n\n\n\n\n\n\nFirst Come First Serve – Limited Availability \n\n\n\nCall Jim Austin at 817.829.5848 or Email Lucinda Harvey at receptionist@jimaustinonline.com \n\n\n\nPlease make sure to reference this event!
URL:https://jimaustinonline.com/events/cece-winans-come-worship-tour/
LOCATION:Dickies Arena\, 1911 Montgomery Street\, Fort Worth\, TX\, 76107\, United States
CATEGORIES:Music Events
ATTACH;FMTTYPE=image/png:https://jimaustinonline.com/wp-content/uploads/2026/04/CeCe-Winans-10.11.26.png
END:VEVENT
BEGIN:VEVENT
DTSTART;TZID=America/Chicago:20261121T193000
DTEND;TZID=America/Chicago:20261121T233000
DTSTAMP:20260423T015734
CREATED:20260410T145509Z
LAST-MODIFIED:20260410T145510Z
UID:3293-1795289400-1795303800@jimaustinonline.com
SUMMARY:Ty Myers: The Legal Tour 2026
DESCRIPTION:We’re selling our seats to the Ty Myers concert scheduled for Saturday\, November 21st! \n\n\n\n\n\n\n\nWe currently have 8 tickets – Section FLR2\, Row 10\, Seats 5 – 12 \n\n\n\n\n\n\n\nFirst Come First Serve – Limited Availability \n\n\n\nCall Jim Austin at 817.829.5848 or Email Lucinda Harvey at receptionist@jimaustinonline.com \n\n\n\nPlease make sure to reference this event!
URL:https://jimaustinonline.com/events/ty-myers-the-legal-tour-2026/
LOCATION:Dickies Arena\, 1911 Montgomery Street\, Fort Worth\, TX\, 76107\, United States
ATTACH;FMTTYPE=image/png:https://jimaustinonline.com/wp-content/uploads/2026/04/Ty-Myers-11.21.26.png
END:VEVENT
END:VCALENDAR