BEGIN:VCALENDAR
VERSION:2.0
PRODID:-//Jim Austin Online - Business Networking, Entertainment &amp; Events - Fort Worth, TX - ECPv6.15.20//NONSGML v1.0//EN
CALSCALE:GREGORIAN
METHOD:PUBLISH
X-ORIGINAL-URL:https://jimaustinonline.com
X-WR-CALDESC:Events for Jim Austin Online - Business Networking, Entertainment &amp; Events - Fort Worth, TX
REFRESH-INTERVAL;VALUE=DURATION:PT1H
X-Robots-Tag:noindex
X-PUBLISHED-TTL:PT1H
BEGIN:VTIMEZONE
TZID:America/Chicago
BEGIN:DAYLIGHT
TZOFFSETFROM:-0600
TZOFFSETTO:-0500
TZNAME:CDT
DTSTART:20250309T080000
END:DAYLIGHT
BEGIN:STANDARD
TZOFFSETFROM:-0500
TZOFFSETTO:-0600
TZNAME:CST
DTSTART:20251102T070000
END:STANDARD
BEGIN:DAYLIGHT
TZOFFSETFROM:-0600
TZOFFSETTO:-0500
TZNAME:CDT
DTSTART:20260308T080000
END:DAYLIGHT
BEGIN:STANDARD
TZOFFSETFROM:-0500
TZOFFSETTO:-0600
TZNAME:CST
DTSTART:20261101T070000
END:STANDARD
BEGIN:DAYLIGHT
TZOFFSETFROM:-0600
TZOFFSETTO:-0500
TZNAME:CDT
DTSTART:20270314T080000
END:DAYLIGHT
BEGIN:STANDARD
TZOFFSETFROM:-0500
TZOFFSETTO:-0600
TZNAME:CST
DTSTART:20271107T070000
END:STANDARD
END:VTIMEZONE
BEGIN:VEVENT
DTSTART;TZID=America/Chicago:20260420T080000
DTEND;TZID=America/Chicago:20260807T170000
DTSTAMP:20260421T064608
CREATED:20260420T225600Z
LAST-MODIFIED:20260420T230015Z
UID:3319-1776672000-1786122000@jimaustinonline.com
SUMMARY:2026 Dallas Cowboys Season Ticket Package
DESCRIPTION:We’re selling our seats to the Dallas Cowboys for the 2026 Sesaon!  This ticket package includes 10 Games (Preseason & Regular Season Home Games)\, and the additional option of Wild Card games once available. \n\n\n\n\n\n\n\nOur Current Availability: \n\n\n\n4 tickets – Section 127\, Row 18\, Seats 17 – 20 \n\n\n\n2 tickets – Section 144\, Row 17\, Seats 20 – 21 \n\n\n\n4 tickets – Section 144\, Row 18\, Seats 18 – 21 \n\n\n\n\n\n\n\nFirst Come First Serve – Limited Availability \n\n\n\nCall Jim Austin at 817.829.5848 or Email Lucinda Harvey at receptionist@jimaustinonline.com \n\n\n\nPlease make sure to reference this event!
URL:https://jimaustinonline.com/events/2026-dallas-cowboys-season-ticket-package/
LOCATION:AT&T Stadium\, 1 AT&T Way\, Arlington\, TX\, 76011\, United States
CATEGORIES:Sporting Event
ATTACH;FMTTYPE=image/png:https://jimaustinonline.com/wp-content/uploads/2026/04/2026-Dallas-Cowboys-Tickets-Flyer-1080-x-1080-px.png
ORGANIZER;CN="Jim Austin Online":MAILTO:info@jimaustinonline.com
END:VEVENT
END:VCALENDAR