BEGIN:VCALENDAR
VERSION:2.0
PRODID:-//Jim Austin Online - Business Networking, Entertainment &amp; Events - Fort Worth, TX - ECPv6.15.20//NONSGML v1.0//EN
CALSCALE:GREGORIAN
METHOD:PUBLISH
X-ORIGINAL-URL:https://jimaustinonline.com
X-WR-CALDESC:Events for Jim Austin Online - Business Networking, Entertainment &amp; Events - Fort Worth, TX
REFRESH-INTERVAL;VALUE=DURATION:PT1H
X-Robots-Tag:noindex
X-PUBLISHED-TTL:PT1H
BEGIN:VTIMEZONE
TZID:America/Chicago
BEGIN:DAYLIGHT
TZOFFSETFROM:-0600
TZOFFSETTO:-0500
TZNAME:CDT
DTSTART:20250309T080000
END:DAYLIGHT
BEGIN:STANDARD
TZOFFSETFROM:-0500
TZOFFSETTO:-0600
TZNAME:CST
DTSTART:20251102T070000
END:STANDARD
BEGIN:DAYLIGHT
TZOFFSETFROM:-0600
TZOFFSETTO:-0500
TZNAME:CDT
DTSTART:20260308T080000
END:DAYLIGHT
BEGIN:STANDARD
TZOFFSETFROM:-0500
TZOFFSETTO:-0600
TZNAME:CST
DTSTART:20261101T070000
END:STANDARD
BEGIN:DAYLIGHT
TZOFFSETFROM:-0600
TZOFFSETTO:-0500
TZNAME:CDT
DTSTART:20270314T080000
END:DAYLIGHT
BEGIN:STANDARD
TZOFFSETFROM:-0500
TZOFFSETTO:-0600
TZNAME:CST
DTSTART:20271107T070000
END:STANDARD
END:VTIMEZONE
BEGIN:VEVENT
DTSTART;TZID=America/Chicago:20260215T190000
DTEND;TZID=America/Chicago:20260215T220000
DTSTAMP:20260423T015546
CREATED:20260121T100840Z
LAST-MODIFIED:20260421T212912Z
UID:2919-1771182000-1771192800@jimaustinonline.com
SUMMARY:Valentine's Day Blues Live Music with LJ Echols
DESCRIPTION:Valentine’s Day Blues live music with LJ Echols\n \n\nJoin us at Stillwater Lounge for a special live performance by LJ Echols\, celebrating Valentine’s Day! Enjoy drinks\, food\, and good company!\n \n\n\n\nValentine’s Day Blues live music with LJ Echols\nSunday\, February 15\, 2026\nStillwater Lounge & Event Center\, 2219 Evans Avenue\, Fort Worth\, TX 76104\nDoors Open at 7:00 PM | Live Music Starts at 8:00 PM\n\n\nNOTE: Table Reservation\, Tickets by Phone\, Sponsor or Vendor Inquiries call the Jim Austin Online Business Office at (817) 923-9305. \nAdmission:\n⬇⬇⬇ \n$35 Advance via Eventbrite or call (817) 923-9305 \n$40 Day of Event Door Tickets – Cash + $8.19 Credit Card \n$50 VIP (includes 1 Complimentary Drink & Setup) \nAll Tickets are subject to Taxes & Eventbrite Fees at Checkout \nBlues Concert benefitting the National Multicultural Western Heritage Museum. \nFree Parking \nFood Available for Sale \nTheme Colors: Red\, Pink & White \n\n\n\n\n\n\n\n\n\n\n\n\n\n\nJimAustinOnline.com Image and Likeness Disclaimer: \n\n\n\nPlease note that photography and videography taking place at all JimAustinOnline.com events\, (including receptions\, concerts\, mixers etc. “)\, the Footage may be used by JimAustinOnline.com for websites\, social media\, press coverage\, marketing materials\, and other official platforms. By attending these events\, you granted consent for JimAustinOnline.com to capture and use your image and likeness.
URL:https://jimaustinonline.com/events/valentines-day-blues-live-music-with-lj-echols/
LOCATION:Stillwater Lounge & Event Center\, 2219 Evans Avenue\, Fort Worth\, TX\, 76104\, United States
CATEGORIES:Music Events
ATTACH;FMTTYPE=image/jpeg:https://jimaustinonline.com/wp-content/uploads/2026/01/lj-val.jpeg
ORGANIZER;CN="Jim Austin Online":MAILTO:info@jimaustinonline.com
END:VEVENT
END:VCALENDAR