BEGIN:VCALENDAR
VERSION:2.0
PRODID:-//Jim Austin Online - Business Networking, Entertainment &amp; Events - Fort Worth, TX - ECPv6.15.20//NONSGML v1.0//EN
CALSCALE:GREGORIAN
METHOD:PUBLISH
X-ORIGINAL-URL:https://jimaustinonline.com
X-WR-CALDESC:Events for Jim Austin Online - Business Networking, Entertainment &amp; Events - Fort Worth, TX
REFRESH-INTERVAL;VALUE=DURATION:PT1H
X-Robots-Tag:noindex
X-PUBLISHED-TTL:PT1H
BEGIN:VTIMEZONE
TZID:America/Chicago
BEGIN:DAYLIGHT
TZOFFSETFROM:-0600
TZOFFSETTO:-0500
TZNAME:CDT
DTSTART:20240310T080000
END:DAYLIGHT
BEGIN:STANDARD
TZOFFSETFROM:-0500
TZOFFSETTO:-0600
TZNAME:CST
DTSTART:20241103T070000
END:STANDARD
BEGIN:DAYLIGHT
TZOFFSETFROM:-0600
TZOFFSETTO:-0500
TZNAME:CDT
DTSTART:20250309T080000
END:DAYLIGHT
BEGIN:STANDARD
TZOFFSETFROM:-0500
TZOFFSETTO:-0600
TZNAME:CST
DTSTART:20251102T070000
END:STANDARD
BEGIN:DAYLIGHT
TZOFFSETFROM:-0600
TZOFFSETTO:-0500
TZNAME:CDT
DTSTART:20260308T080000
END:DAYLIGHT
BEGIN:STANDARD
TZOFFSETFROM:-0500
TZOFFSETTO:-0600
TZNAME:CST
DTSTART:20261101T070000
END:STANDARD
END:VTIMEZONE
BEGIN:VEVENT
DTSTART;TZID=America/Chicago:20251217T080000
DTEND;TZID=America/Chicago:20251217T170000
DTSTAMP:20260423T053313
CREATED:20251217T205302Z
LAST-MODIFIED:20251217T205302Z
UID:2864-1765958400-1765990800@jimaustinonline.com
SUMMARY:Nationwide Call To Walk In All 50 States by 2030 for Unity and Freedom
DESCRIPTION:Unity Unlimited\, Inc. Announces aNationwide Call To Walk In All 50 States by 2030 for Unity and Freedom\nUnity Unlimited\, Inc.\, home of the Grandmother of Juneteenth\, Dr. Opal Lee\, proudly announces an initiative for all 50 states to walk in solidarity for freedom\, equality\, and unity by the year 2030. \nDr. Opal Lee’s historic footsteps changed the course of American history when her walking campaign helped make Juneteenth a federal holiday in 2021. Now at 99 years old\, she continues to inspire generations with her mission to ensure that the message of Juneteenth\, freedom for all\, from sea to shining sea\, is carried forward in the commitment of the following states to celebrate the 250th birthday of the United States of America: \n\nFlagship walk: Washington\, DC\nLegacy walk: Fort Worth\, TX\nBirmingham\, AL\nCincinnati\, OH\nEvanston\, IL\nGrants Pass\, OR\nHonolulu\, HI\nLos Angeles\, CA\nSt. Paul\, MN\n\nEach state will collaborate with Unity Unlimited\, Inc.\, to organize a 2.5-mile walk representing the two and a half years it took for news of the Emancipation Proclamation to reach enslaved people in Texas after it was signed on January 1\, 1863. \nThrough this collective action\, participants will unite in one powerful message: Freedom should be celebrated everywhere\, by everyone. \n“When I started walking\, I wanted people to understand that freedom was delayed\, but not denied\,” said Dr. Opal Lee. “Now\, I want every state\, every community\, to walk together\, because freedom is something we must keep walking toward\, side by side.” \nABOUT THE WALK \nThe movement began in 2016\, when Dr. Lee\, then 90 years old\, set out from Fort Worth\, Texas\, walking 2.5 miles at a time to raise awareness about the need for Juneteenth to be recognized as a national day of observance. Her determination led her across 14 states and ultimately to the White House\, where President Joe Biden signed the bill making Juneteenth the 12th federal holiday in U.S. history. \nSince then\, Opal’s Walk for Freedom® has become a national tradition\, inviting thousands of participants each year to walk with her in person or to join virtually in their own cities from around the world. The 50-state campaign aims to be the largest in history\, connecting participants across all 50 states and honoring the legacy of those who fought for freedom\, justice\, and equality. \nHOW TO PARTICIPATE \n\nJoin a local walk or walk virtually on June 19\, 2026.\nRegister online at https://www.opalswalk.com/  for official walk materials\, updates\, and event resources.\nShare your journey on social media using #OpalsWalkForFreedom and #50StatesForFreedom\nNominate your city to host a 2027 walk opalswalkforfreedom.org\n\n“Opal’s Walk for Freedom®   isn’t just a walk; it’s a movement\,” said Mrs. Dione Sims\, Executive Director of Unity Unlimited\, Inc. “This is about educating\, connecting\, and empowering people across the country to continue the work that Dr. Lee began.” \nABOUT UNITY UNLIMITED. INC \nUnity Unlimited\, Inc. is a non-profit organization that helps communities overcome racial\, cultural\, and economic division. The programs they produce support their mission of human dignity through education\, resources\, and opportunities\, including initiatives such as Juneteenth Strong\, a month-long event series celebrating freedom with their brand ambassador\, the Grandmother of Juneteenth\, Dr. Opal Lee. \n  \n\n\n  \nMedia Contact \nUnity Unlimited\, Inc.daria@hookenterprises.comhttp://www.unityunlimited.org \n  \n  \n 
URL:https://jimaustinonline.com/events/nationwide-call-to-walk-in-all-50-states-by-2030-for-unity-and-freedom/
LOCATION:TX
END:VEVENT
END:VCALENDAR