BEGIN:VCALENDAR
VERSION:2.0
PRODID:-//Jim Austin Online - Business Networking, Entertainment &amp; Events - Fort Worth, TX - ECPv6.15.20//NONSGML v1.0//EN
CALSCALE:GREGORIAN
METHOD:PUBLISH
X-WR-CALNAME:Jim Austin Online - Business Networking, Entertainment &amp; Events - Fort Worth, TX
X-ORIGINAL-URL:https://jimaustinonline.com
X-WR-CALDESC:Events for Jim Austin Online - Business Networking, Entertainment &amp; Events - Fort Worth, TX
REFRESH-INTERVAL;VALUE=DURATION:PT1H
X-Robots-Tag:noindex
X-PUBLISHED-TTL:PT1H
BEGIN:VTIMEZONE
TZID:America/Chicago
BEGIN:DAYLIGHT
TZOFFSETFROM:-0600
TZOFFSETTO:-0500
TZNAME:CDT
DTSTART:20240310T080000
END:DAYLIGHT
BEGIN:STANDARD
TZOFFSETFROM:-0500
TZOFFSETTO:-0600
TZNAME:CST
DTSTART:20241103T070000
END:STANDARD
BEGIN:DAYLIGHT
TZOFFSETFROM:-0600
TZOFFSETTO:-0500
TZNAME:CDT
DTSTART:20250309T080000
END:DAYLIGHT
BEGIN:STANDARD
TZOFFSETFROM:-0500
TZOFFSETTO:-0600
TZNAME:CST
DTSTART:20251102T070000
END:STANDARD
BEGIN:DAYLIGHT
TZOFFSETFROM:-0600
TZOFFSETTO:-0500
TZNAME:CDT
DTSTART:20260308T080000
END:DAYLIGHT
BEGIN:STANDARD
TZOFFSETFROM:-0500
TZOFFSETTO:-0600
TZNAME:CST
DTSTART:20261101T070000
END:STANDARD
END:VTIMEZONE
BEGIN:VEVENT
DTSTART;TZID=America/Chicago:20251204T173000
DTEND;TZID=America/Chicago:20251204T193000
DTSTAMP:20260423T053042
CREATED:20251106T091041Z
LAST-MODIFIED:20251119T133238Z
UID:2681-1764869400-1764876600@jimaustinonline.com
SUMMARY:Entrepreneur Business Mixer at Stillwater Lounge & Event Center
DESCRIPTION:Entrepreneur Business Mixer at Stillwater Lounge & Event Center\n\nCome network with fellow entrepreneurs\, share ideas\, and make valuable connections at our Entrepreneur Business Mixer!\n\n\n\nWelcome to the Entrepreneur Business Mixer! Join us for an evening of networking\, collaboration\, and fun at the Stillwater Lounge & Event Center. Connect with fellow entrepreneurs\, share ideas\, and build valuable relationships. Whether you’re a seasoned business owner or just starting\, this event is the perfect opportunity to expand your network and grow your business. Don’t miss out on this fantastic chance to mingle with like-minded individuals and take your business to the next level. \nThursday\, December 4\, 2025 \n5:30PM-7:30PM \nStillwater Lounge & Event Center \n2219 Evans Avenue Fort Worth\, TX 76104 \nAdmissions\n$10 Registration (not incl. fees) \n*All Attendees must register through Eventbrite \nQuestions: Call the Jim Austin Online Business Office – 817-923-9305. \nWhat to Expect\n\nNetworking with like-minded business professionals\nComplimentary Drink\nLight Hors d’Oeuvres\nRaffle Prizes\nCurated Music for Conversation\n\nNote: One complimentary drink per attendee (21+ years old\, while supplies last). \nRaffle entry requires a business card drop-in; the winner will be announced at 7:00 PM and must be present to win. \nAttire\nBusiness Casual\, Business Chic \nRemember to bring plenty of business cards! \nSee you there! \n\n\n\n\nVendor & Sponsorship Opportunities Information:\nPlease email Lucinda Harvey at receptionist@jimaustinonline.com\, or call the Jim Austin Online Business Office (817) 923-9305.\nVendor provides their own table covering. Venue will provide Table and two chairs. Set Up at 6:30 PM | Doors Open at 7:00 PM 2 Mixer Registration tickets included \nPlease send her any Logos\, Contact Information\, and Websites to be mentioned on this Eventbrite Page. Payment can also be made via QuickBooks. \nTHANK YOU! \n\n\n\n\nPublic Events Policy Waiver\nAn inherent risk of exposure to COVID-19 exists in any public place where people are present. By visiting/participating you voluntarily assume all risks related to exposure to COVID-19. \nVaccinated and Non-vaccinated attendees are encouraged to wear a mask at all times (including parking lots)\, except when they are actively eating or drinking. We will continue to implement a series of health and sanitation policies and procedures and is monitoring guidelines from the CDC\, and public health officials. Please be advised that these safety protocols remain subject to change. \n“Thank you” for helping us to keep our event location clean and healthy in this difficult time. \n\n\n\n\n**Refund Policy**\nWe issue refunds on a case-by-case basis\, depending on circumstances presented to us\, i.e. hospitalization. \nThe buyer assumes responsibility on paying the Eventbrite fees\, unless the event has been cancelled\, upon which a full refund will be issued to your payment method. \nAny transactions not made directly through this Eventbrite will not be considered.
URL:https://jimaustinonline.com/events/entrepreneur-business-mixer-at-stillwater-lounge-event-center/
LOCATION:Stillwater Lounge & Event Center\, 2219 Evans Avenue\, Fort Worth\, TX\, 76104\, United States
ATTACH;FMTTYPE=image/png:https://jimaustinonline.com/wp-content/uploads/2025/11/Business-Mixer-1.png
END:VEVENT
END:VCALENDAR